BEGIN:VCALENDAR
VERSION:2.0
METHOD:PUBLISH
BEGIN:VEVENT
DTSTART:20231124T090000
DTEND:20231124T120000
LOCATION:Uniwersytecki Inkubator Przedsiębiorczości inQUBE Wielka 67  Wrocław
TRANSP: OPAQUE
SEQUENCE:0
UID:
DTSTAMP:20260420T012654Z
SUMMARY:inQUBE Breakfast
DESCRIPTION:Wracamy z śniadaniami networkingowymi w inQUBE.Już 24 listopada zapraszamy do inkubatora przedsiębiorczości, gdzie odbędzie się kolejna edycja bezpłatnego spotkania z cyklu inQUBE Breakfast.......
URL:https://app.evenea.pl/event/inqubebreakfastlistopad2023/
PRIORITY:1
CLASS:PUBLIC
END:VEVENT
END:VCALENDAR
