BEGIN:VCALENDAR
VERSION:2.0
METHOD:PUBLISH
BEGIN:VEVENT
DTSTART:20241121T090000
DTEND:20241121T120000
LOCATION:Uniwersytecki Inkubator Przedsiębiorczości inQUBE Wielka 67  Wrocław
TRANSP: OPAQUE
SEQUENCE:0
UID:
DTSTAMP:20260419T205853Z
SUMMARY:inQUBE Breakfast
DESCRIPTION:Zapraszamy na ostatnie w tym roku inQUBE Breakfast, którego głównym partnerem jest kancelaria dotlaw! Podczas tego spotkania wnikliwie omówimy, jak przygotować startup do rozmów z......
URL:https://app.evenea.pl/event/inqubebreakfastlistopad2024/
PRIORITY:1
CLASS:PUBLIC
END:VEVENT
END:VCALENDAR
