BEGIN:VCALENDAR
VERSION:2.0
METHOD:PUBLISH
BEGIN:VEVENT
DTSTART:20240229T090000
DTEND:20240229T120000
LOCATION:Uniwersytecki Inkubator Przedsiębiorczości inQUBE Wielka 67  Wrocław
TRANSP: OPAQUE
SEQUENCE:0
UID:
DTSTAMP:20260419T205735Z
SUMMARY:inQUBE Breakfast
DESCRIPTION:Już 29 lutego zapraszamy do inkubatora przedsiębiorczości, gdzie odbędzie się kolejna edycja bezpłatnego spotkania - inQUBE Breakfast. Celem inicjatywy jest wsparcie rozwoju oraz integracja......
URL:https://app.evenea.pl/event/inqubebreakfastluty2024/
PRIORITY:1
CLASS:PUBLIC
END:VEVENT
END:VCALENDAR
