BEGIN:VCALENDAR
VERSION:2.0
METHOD:PUBLISH
BEGIN:VEVENT
DTSTART:20240517T090000
DTEND:20240517T120000
LOCATION:Uniwersytecki Inkubator Przedsiębiorczości inQUBE Wielka 67  Wrocław
TRANSP: OPAQUE
SEQUENCE:0
UID:
DTSTAMP:20260419T192811Z
SUMMARY:inQUBE Breakfast
DESCRIPTION:Po krótkiej kwietniowej przerwie, podczas której startowaliśmy z inQUBE Academy, wracamy do naszych networkingowych spotkań w cyklu inQUBE Breakfast! 💚 Tym razem skupimy się na strategiach......
URL:https://app.evenea.pl/event/inqubebreakfastmaj2024/
PRIORITY:1
CLASS:PUBLIC
END:VEVENT
END:VCALENDAR
