BEGIN:VCALENDAR
VERSION:2.0
METHOD:PUBLISH
BEGIN:VEVENT
DTSTART:20250627T090000
DTEND:20250627T120000
LOCATION:Uniwersytecki Inkubator Przedsiębiorczości inQUBE Wielka 67  Wrocław
TRANSP: OPAQUE
SEQUENCE:0
UID:
DTSTAMP:20260425T134411Z
SUMMARY:inQUBE Breakfast
DESCRIPTION:Zapraszamy na kolejne inQUBE Breakfast! ☕🥐Tym razem przy wspólnym śniadaniu porozmawiamy o storytellingu - jednym z najpotężniejszych narzędzi współczesnego marketingu i sprzedaży......
URL:https://app.evenea.pl/event/inqubebreakfaststczerwiec2025/
PRIORITY:1
CLASS:PUBLIC
END:VEVENT
END:VCALENDAR
