BEGIN:VCALENDAR
VERSION:2.0
METHOD:PUBLISH
BEGIN:VEVENT
DTSTART:20250411T090000
DTEND:20250411T120000
LOCATION:Uniwersytecki Inkubator Przedsiębiorczości inQUBE Wielka 67  Wrocław
TRANSP: OPAQUE
SEQUENCE:0
UID:
DTSTAMP:20260419T210043Z
SUMMARY:inQUBE Breakfast
DESCRIPTION:Zapraszamy na kolejne inQUBE Breakfast, gdzie przy wspólnym śniadaniu porozmawiamy o rewolucji w świecie żywności! 🍽️Czy startupy mogą zmienić sposób, w jaki produkujemy i konsumujemy......
URL:https://app.evenea.pl/event/inqubebreakfaststkwiecien2025/
PRIORITY:1
CLASS:PUBLIC
END:VEVENT
END:VCALENDAR
