BEGIN:VCALENDAR
VERSION:2.0
METHOD:PUBLISH
BEGIN:VEVENT
DTSTART:20251120T090000
DTEND:20251120T120000
LOCATION:Uniwersytecki Inkubator Przedsiębiorczości inQUBE Wielka 67  Wrocław
TRANSP: OPAQUE
SEQUENCE:0
UID:
DTSTAMP:20260420T000805Z
SUMMARY:inQUBE Breakfast
DESCRIPTION:📣 Zapraszamy na listopadową edycję inQUBE Breakfast! ☕🥐Tym razem tematem przewodnim będzie: "Finanse kreatywnie: jak nowoczesna księgowość wspiera rozwój firm" 💡💼 Przy......
URL:https://app.evenea.pl/event/inqubebreakfaststlistopad2025/
PRIORITY:1
CLASS:PUBLIC
END:VEVENT
END:VCALENDAR
