BEGIN:VCALENDAR
VERSION:2.0
METHOD:PUBLISH
BEGIN:VEVENT
DTSTART:20250130T090000
DTEND:20250130T120000
LOCATION:Uniwersytecki Inkubator Przedsiębiorczości inQUBE Wielka 67  Wrocław
TRANSP: OPAQUE
SEQUENCE:0
UID:
DTSTAMP:20260423T143106Z
SUMMARY:inQUBE Breakfast
DESCRIPTION:Zapraszamy na pierwsze w 2025 roku inQUBE Breakfast! 🎉Rozpocznijmy nowy rok od inspirującego spotkania, którego tematem będzie "Crowdfunding 360°: Od Pomysłu do Realizacji". To wyjątkowa......
URL:https://app.evenea.pl/event/inqubebreakfaststyczen2025/
PRIORITY:1
CLASS:PUBLIC
END:VEVENT
END:VCALENDAR
