BEGIN:VCALENDAR
VERSION:2.0
METHOD:PUBLISH
BEGIN:VEVENT
DTSTART:20230315T173000
DTEND:20230315T173000
LOCATION:Hevre Beera Meiselsa 18  Kraków
TRANSP: OPAQUE
SEQUENCE:0
UID:
DTSTAMP:20260423T145552Z
SUMMARY:Inspiring Women in IT
DESCRIPTION:Inspiring Women in IT by Sphere.it From the beginnings of programming in the 20th century to the present times entirely driven by technology, the history of IT is full of #womenheroes! To celebrate......
URL:https://app.evenea.pl/event/inspiring-women-in-it/
PRIORITY:1
CLASS:PUBLIC
END:VEVENT
END:VCALENDAR
