BEGIN:VCALENDAR
VERSION:2.0
METHOD:PUBLISH
BEGIN:VEVENT
DTSTART:20230520T094500
DTEND:20230520T120000
LOCATION:Port Czystej Energii   Gdańsk
TRANSP: OPAQUE
SEQUENCE:0
UID:
DTSTAMP:20260420T054943Z
SUMMARY:Instameet Port Czystej Energii
DESCRIPTION:Igersi! Zapraszamy na #InstameetPortCzystejEnergii Port Czystej Energii to instalacja do odzysku energii z odpadów. W tej nowoczesnej elektrociepłowni odpady, które nie nadają się do......
URL:https://app.evenea.pl/event/instameetportczystejenergii/
PRIORITY:1
CLASS:PUBLIC
END:VEVENT
END:VCALENDAR
