BEGIN:VCALENDAR
VERSION:2.0
METHOD:PUBLISH
BEGIN:VEVENT
DTSTART:20191121T173000
DTEND:20191121T210000
LOCATION:CCIFP, Nowogrodzka Square Aleje Jerozolimskie  93  Warszawa
TRANSP: OPAQUE
SEQUENCE:0
UID:
DTSTAMP:20260425T060740Z
SUMMARY:Comment être un chef d’équipe dans un environnement international, et s’entendre avec le personnel ?
DESCRIPTION:Comment être un chef d'équipe dans un environnement international, et s'entendre avec le personnel ?Réunion dédiée aux patrons français qui gerent le personnel international en Pologne.......
URL:https://app.evenea.pl/event/interactifs-wawa-expats/
PRIORITY:1
CLASS:PUBLIC
END:VEVENT
END:VCALENDAR
