BEGIN:VCALENDAR
VERSION:2.0
METHOD:PUBLISH
BEGIN:VEVENT
DTSTART:20191121T083000
DTEND:20191121T083000
LOCATION:Krajowa Izba Gospodarcza Trębacka 4  Warszawa
TRANSP: OPAQUE
SEQUENCE:0
UID:
DTSTAMP:20260425T055658Z
SUMMARY:Po partnersku czy silną ręką? Jaki model szefa na obecne czasy? /Partenariat, ou main forte? Quel modele de patron pour le temps present? (mini warsztat/ mini-atelier)
DESCRIPTION:Zapraszamy na ostatnie już spotkanie w warszawskiej odsłonie cyklu Wyzwania Lidera 2019.PO PARTNERSKU CZY SILNĄ RĘKĄ? Jaki szef na obecne czasy?Każdy szef dokonuje wyboru pomiędzy......
URL:https://app.evenea.pl/event/interactifs-wawa/
PRIORITY:1
CLASS:PUBLIC
END:VEVENT
END:VCALENDAR
