BEGIN:VCALENDAR
VERSION:2.0
METHOD:PUBLISH
BEGIN:VEVENT
DTSTART:20250924T093000
DTEND:20250924T093000
LOCATION:Gdański Park Naukowo Technologiczny, Budynek C Trzy Lipy 3  Gdańsk
TRANSP: OPAQUE
SEQUENCE:0
UID:
DTSTAMP:20260423T215711Z
SUMMARY:INTERIZON Day 2025
DESCRIPTION:Zapraszamy na 15. edycję konferencji INTERIZON Day 2025, która odbędzie się 24 września 2025 roku!To wyjątkowe wydarzenie organizowane przez Pomorski Klaster ICT Interizon, które łączy......
URL:https://app.evenea.pl/event/interizon-day-2025/
PRIORITY:1
CLASS:PUBLIC
END:VEVENT
END:VCALENDAR
