BEGIN:VCALENDAR
VERSION:2.0
METHOD:PUBLISH
BEGIN:VEVENT
DTSTART:20250520T114000
DTEND:20250520T114000
LOCATION:University of Economics and Human Sciences in Warsaw 59 Okopowa st.  Warsaw
TRANSP: OPAQUE
SEQUENCE:0
UID:
DTSTAMP:20260421T181056Z
SUMMARY:International Classroom: Internet and Datacenter Developments in European Countries, and USA Effects
DESCRIPTION:International Classroom: Internet and Datacenter Developments in European Countries, and USA EffectsDate: 20 May 2025 Time: 11:40 Location: Room 539, Vizja Park Campus, Warsaw Language: English......
URL:https://app.evenea.pl/event/international-classroom-internet/
PRIORITY:1
CLASS:PUBLIC
END:VEVENT
END:VCALENDAR
