BEGIN:VCALENDAR
VERSION:2.0
METHOD:PUBLISH
BEGIN:VEVENT
DTSTART:20250416T180000
DTEND:20250416T200000
LOCATION:on-line   
TRANSP: OPAQUE
SEQUENCE:0
UID:
DTSTAMP:20260424T143947Z
SUMMARY:INTERWIZJA DLA SUPERWIZORÓW (online) 16.04.2025
DESCRIPTION:Zapraszamy na spotkanie - INTERWIZJA DLA SUPERWIZORÓW (on-line) organizowane przez Izbę Coachingu w formie onlinePrzypominamy, iż aktywny udział w warsztacie spełnia wymogi uczestniczenia......
URL:https://app.evenea.pl/event/interwizja16042025/
PRIORITY:1
CLASS:PUBLIC
END:VEVENT
END:VCALENDAR
