BEGIN:VCALENDAR
VERSION:2.0
METHOD:PUBLISH
BEGIN:VEVENT
DTSTART:20220930T150000
DTEND:20221004T140000
LOCATION:Замок фон Тресков   
TRANSP: OPAQUE
SEQUENCE:0
UID:
DTSTAMP:20260424T031045Z
SUMMARY:Твой внутренный Гигант / Ретрит с Мастером Ю и CуДжин
DESCRIPTION:Сандао; ИСМ - Твой внутренний Гигант / Ретрит с Мастером Ю и CуДжинМедитация Внутреннего Пространства,......
URL:https://app.evenea.pl/event/ismgigantru/
PRIORITY:1
CLASS:PUBLIC
END:VEVENT
END:VCALENDAR
