BEGIN:VCALENDAR
VERSION:2.0
METHOD:PUBLISH
BEGIN:VEVENT
DTSTART:20230630T180000
DTEND:20230830T200000
LOCATION:Hotel Apart Podpromie 12  Rzeszów
TRANSP: OPAQUE
SEQUENCE:0
UID:
DTSTAMP:20260425T173506Z
SUMMARY:Moda na kobiety w polityce - DEBATA
DESCRIPTION:...
URL:https://app.evenea.pl/event/it-rzeszowkopia1kopia1/
PRIORITY:1
CLASS:PUBLIC
END:VEVENT
END:VCALENDAR
