BEGIN:VCALENDAR
VERSION:2.0
METHOD:PUBLISH
BEGIN:VEVENT
DTSTART:20160421T090000
DTEND:20160421T180000
LOCATION:Centrum Edukacji Międzynarodowej Wyższej Szkoły Informatyki i Zarządzania Kielnarowa 386A  36-020 Tyczyn, Polska
TRANSP: OPAQUE
SEQUENCE:0
UID:
DTSTAMP:20260425T180839Z
SUMMARY:ITAD - IT Academic Day
DESCRIPTION:Kolejna edycja Konferencji IT Academic Day odbędzie się już 21 kwietnia 2016 roku, w godzinach 9-18, w Centrum Edukacji Międzynarodowej w Kielnarowej. Głównym organizatorem tegorocznej......
URL:https://app.evenea.pl/event/itad2016/
PRIORITY:1
CLASS:PUBLIC
END:VEVENT
END:VCALENDAR
