BEGIN:VCALENDAR
VERSION:2.0
METHOD:PUBLISH
BEGIN:VEVENT
DTSTART:20170117T180000
DTEND:20170117T200000
LOCATION:Wydział Fizyki, Astronomii i Informatyki Stosowanej, Uniwersytet Jagielloński Łojasiewicza 11  Kraków
TRANSP: OPAQUE
SEQUENCE:0
UID:
DTSTAMP:20260425T181017Z
SUMMARY:IT Akademia j-labs: Reactive - more than just Streams
DESCRIPTION:Kolejna IT Akademia j-labs w Krakowie. Trzeci rok naszych wykładów zaczynamy mocnym wejściem! Zapraszamy na wykład Konrada Malawskiego: Reactive - more than just Streams.► TEMAT: Reactive -......
URL:https://app.evenea.pl/event/itakademiakrakow012017/
PRIORITY:1
CLASS:PUBLIC
END:VEVENT
END:VCALENDAR
