BEGIN:VCALENDAR
VERSION:2.0
METHOD:PUBLISH
BEGIN:VEVENT
DTSTART:20201203T110000
DTEND:20201203T131000
LOCATION:ONLINE   
TRANSP: OPAQUE
SEQUENCE:0
UID:
DTSTAMP:20260422T134631Z
SUMMARY:Jak przygotować się na Industry 4.0? - konferencja online
DESCRIPTION:Kielecki Park Technologiczny zaprasza do udziału w konferencji podsumowującej projekt Międzynarodowa Akademia Transferu Technologii (International Technology Transfer Academy) realizowany z......
URL:https://app.evenea.pl/event/itta0312/
PRIORITY:1
CLASS:PUBLIC
END:VEVENT
END:VCALENDAR
