BEGIN:VCALENDAR
VERSION:2.0
METHOD:PUBLISH
BEGIN:VEVENT
DTSTART:20220922T180000
DTEND:20220922T180000
LOCATION:BARBARA: infopunkt / kawiarnia / kultura Świdnicka 8b  Wrocław
TRANSP: OPAQUE
SEQUENCE:0
UID:
DTSTAMP:20260422T003000Z
SUMMARY:IT Talk Wro: Autumn Edition
DESCRIPTION:Już w czwartek 22 września zapraszamy Was na jesienną edycję IT talk Wro. Widzimy się o godz. 18:00 w Barbarze przy ulicy Świdnickiej.W trakcie wydarzenia będziecie mogli wysłuchać aż......
URL:https://app.evenea.pl/event/ittalk-wro-autumn/
PRIORITY:1
CLASS:PUBLIC
END:VEVENT
END:VCALENDAR
