BEGIN:VCALENDAR
VERSION:2.0
METHOD:PUBLISH
BEGIN:VEVENT
DTSTART:20241109T090000
DTEND:20241109T090000
LOCATION:Wrocławskie  Centrum Kongresowe Ul. Wystawowa 1  Wrocław
TRANSP: OPAQUE
SEQUENCE:0
UID:
DTSTAMP:20260420T163340Z
SUMMARY:IV Dolnośląski Kongres Kobiet - Wybory Kobiet
DESCRIPTION:Zapraszamy na IV Dolnośląski Kongres Kobiet, który odbędzie się w sobotę, 9 listopada we Wrocławiu! To wyjątkowe spotkanie dla wszystkich, którym bliskie są kwestie równości i praw......
URL:https://app.evenea.pl/event/ivdolnoslaskikongreskobiet/
PRIORITY:1
CLASS:PUBLIC
END:VEVENT
END:VCALENDAR
