BEGIN:VCALENDAR
VERSION:2.0
METHOD:PUBLISH
BEGIN:VEVENT
DTSTART:20170419T090000
DTEND:20170420T200000
LOCATION:Centrum Nauki Kopernik ul. Wybrzeże Kościuszkowskie 20  Warszawa
TRANSP: OPAQUE
SEQUENCE:0
UID:
DTSTAMP:20260424T090018Z
SUMMARY:IX Ogólnopolski Kongres Prawa Bankowego i Rynku Kapitałowego
DESCRIPTION:Ogólnopolski Kongres Prawa Bankowego jest sztandarowym projektem Koła Naukowego Prawa Bankowego i wydarzeniem na stałe wpisanym w cykl konferencji organizowanych przez studentów Uniwersytetu......
URL:https://app.evenea.pl/event/ixkongres/
PRIORITY:1
CLASS:PUBLIC
END:VEVENT
END:VCALENDAR
