BEGIN:VCALENDAR
VERSION:2.0
METHOD:PUBLISH
BEGIN:VEVENT
DTSTART:20250607T100000
DTEND:20250607T173000
LOCATION:Młyny Rothera ul. Mennica 10  Bydgoszcz
TRANSP: OPAQUE
SEQUENCE:0
UID:
DTSTAMP:20260420T033708Z
SUMMARY:IX Kongres Ruchów Miejskich
DESCRIPTION:Interesujesz się samorządnością i demokracją lokalną?Jesteś zaangażowany/a w sprawy dotyczące swojej miejscowości?Działasz aktywnie na rzecz lokalnej społeczności?Zależy Ci na tym,......
URL:https://app.evenea.pl/event/ixkrm/
PRIORITY:1
CLASS:PUBLIC
END:VEVENT
END:VCALENDAR
