BEGIN:VCALENDAR
VERSION:2.0
METHOD:PUBLISH
BEGIN:VEVENT
DTSTART:20190630T140000
DTEND:20190630T140000
LOCATION:Regionalne Centrum Kultur Pogranicza w Krośnie ul. Kolejowa 1  Krosno
TRANSP: OPAQUE
SEQUENCE:0
UID:
DTSTAMP:20260422T184224Z
SUMMARY:Krośnieński Festiwal Bliskości 30 czerwca 2019 - wykład Jak naturalnie dbać o zdrowie rodziny
DESCRIPTION:Na wykładzie dowiesz się, na co warto zwrócić uwagę, kiedy wybierasz naturalne produkty, by zadbać o zdrowie rodziny. Naturoterapeutka Paulina Dudek z Mamatuli.pl opowie Wam, w jaki sposób......
URL:https://app.evenea.pl/event/jakdbacozdrowierodziny/
PRIORITY:1
CLASS:PUBLIC
END:VEVENT
END:VCALENDAR
