BEGIN:VCALENDAR
VERSION:2.0
METHOD:PUBLISH
BEGIN:VEVENT
DTSTART:20251127T100000
DTEND:20251127T100000
LOCATION:Poznań Biznes Partner ul. 28 czerwca 1956 r. 404, sala C, II piętro  Poznań
TRANSP: OPAQUE
SEQUENCE:0
UID:
DTSTAMP:20260422T131407Z
SUMMARY:Jak przyciągnąć nowych klientów do Twojego lokalnego biznesu
DESCRIPTION:Wspólnie z Basią Zygan, Babeczka od marketingu -Agencja Marketingowa, zapraszamy na bezpłatne szkolenie stacjonarne: Jak przyciągnąć nowych klientów do Twojego lokalnego biznesu?To......
URL:https://app.evenea.pl/event/jakprzyciagnacklientow/
PRIORITY:1
CLASS:PUBLIC
END:VEVENT
END:VCALENDAR
