BEGIN:VCALENDAR
VERSION:2.0
METHOD:PUBLISH
BEGIN:VEVENT
DTSTART:20231107T190000
DTEND:20231107T203000
LOCATION:Internet   
TRANSP: OPAQUE
SEQUENCE:0
UID:
DTSTAMP:20260420T180505Z
SUMMARY:Jak się dogadać z nastolatkiem? Webinar online dla rodziców
DESCRIPTION:Od jakiegoś czasu jestem mamą trojga nastolatków. Dwóch dziewczyn i jednego chłopaka. Wiele się zmieniło w naszych relacjach. Przyznam, że czasem jestem bezsilna, boję się i złoszczę......
URL:https://app.evenea.pl/event/jaksiedogadacznastolatkiem03kopia1kopia1kopia1/
PRIORITY:1
CLASS:PUBLIC
END:VEVENT
END:VCALENDAR
