BEGIN:VCALENDAR
VERSION:2.0
METHOD:PUBLISH
BEGIN:VEVENT
DTSTART:20200310T093000
DTEND:20200310T143000
LOCATION:Stadion Narodowy Księcia Józefa Poniatowskiego 1  Warszawa
TRANSP: OPAQUE
SEQUENCE:0
UID:
DTSTAMP:20260420T073932Z
SUMMARY:Jantar Retail Forum
DESCRIPTION:Jantar wraz z Partnerem strategicznym wydarzenia Zebra Technologies, Partnerami Microsoft oraz GS1 Polska zapraszają na Jantar Retail Forum. Spotkaj się z gośćmi specjalnymi, którzy......
URL:https://app.evenea.pl/event/jantarretailforum/
PRIORITY:1
CLASS:PUBLIC
END:VEVENT
END:VCALENDAR
