BEGIN:VCALENDAR
VERSION:2.0
METHOD:PUBLISH
BEGIN:VEVENT
DTSTART:20220512T092000
DTEND:20220512T173000
LOCATION:Online Online  Online
TRANSP: OPAQUE
SEQUENCE:0
UID:
DTSTAMP:20260420T080836Z
SUMMARY:Javeloper 2022 (online)
DESCRIPTION:Javeloper 2022 (online) to największa polska konferencja poświęcona Java. W tym roku konferencja odbywa się w dniu 12.05.2022 roku w formie transmisji online. Skierowana jest do architektów,......
URL:https://app.evenea.pl/event/javeloper2022/
PRIORITY:1
CLASS:PUBLIC
END:VEVENT
END:VCALENDAR
