BEGIN:VCALENDAR
VERSION:2.0
METHOD:PUBLISH
BEGIN:VEVENT
DTSTART:20250515T092000
DTEND:20250515T170000
LOCATION:Online Online  Online
TRANSP: OPAQUE
SEQUENCE:0
UID:
DTSTAMP:20260424T204624Z
SUMMARY:Javeloper 2025 (online)
DESCRIPTION:Javeloper 2025 (online) to VIII. edycja największej polskiej konferencja poświęcona Java i architekturze oprogramowania. Wydarzenie odbywa się w dniu 15.05.2025 roku w formie transmisji online.......
URL:https://app.evenea.pl/event/javeloper2025/
PRIORITY:1
CLASS:PUBLIC
END:VEVENT
END:VCALENDAR
