BEGIN:VCALENDAR
VERSION:2.0
METHOD:PUBLISH
BEGIN:VEVENT
DTSTART:20200716T180000
DTEND:20200716T193000
LOCATION:Online event   
TRANSP: OPAQUE
SEQUENCE:0
UID:
DTSTAMP:20260420T044222Z
SUMMARY:Project Management or "What the hell went wrong?!!" - Pro tips on how to become a better Project Manager | Event by JCI Poland
DESCRIPTION:Project Management or "What the Hell went wrong?!!" - improve your skills as a Project Manager based on our guest's 20 years experience in Project Management with the ERP Software Dynamics NAV......
URL:https://app.evenea.pl/event/jci-projectmanagement/
PRIORITY:1
CLASS:PUBLIC
END:VEVENT
END:VCALENDAR
