BEGIN:VCALENDAR
VERSION:2.0
METHOD:PUBLISH
BEGIN:VEVENT
DTSTART:20200604T100000
DTEND:20200604T160000
LOCATION:   
TRANSP: OPAQUE
SEQUENCE:0
UID:
DTSTAMP:20260419T192638Z
SUMMARY:JDD 2020 Online
DESCRIPTION:We won't give up to the virus! Especially for you, we organize something special: JDD ONLINE 2020 - The Coolest Conf on Java in the totally new formula! This time we gather online, on the 4th of......
URL:https://app.evenea.pl/event/jdd2020online/&lang=en
PRIORITY:1
CLASS:PUBLIC
END:VEVENT
END:VCALENDAR
