BEGIN:VCALENDAR
VERSION:2.0
METHOD:PUBLISH
BEGIN:VEVENT
DTSTART:20210611T180000
DTEND:20210611T180000
LOCATION:Filia nr 7 Miejskiej Bibliotek Publicznej w Szczecinie plac Matki Teresy z Kalkuty 8  Szczecin
TRANSP: OPAQUE
SEQUENCE:0
UID:
DTSTAMP:20260423T043143Z
SUMMARY:Spotkanie z Jędrzejem Pasierskim
DESCRIPTION:11 czerwca (piątek) o godz. 18.00 zapraszamy na spotkanie autorskie z Jędrzejem Pasierskim. Prowadzenie: Marek Stelar.Wydarzenie odbędzie się w formule hybrydowej: stacjonarnie dla ograniczonej......
URL:https://app.evenea.pl/event/jedrzej-pasierski/
PRIORITY:1
CLASS:PUBLIC
END:VEVENT
END:VCALENDAR
