BEGIN:VCALENDAR
VERSION:2.0
METHOD:PUBLISH
BEGIN:VEVENT
DTSTART:20221118T150000
DTEND:20221120T180000
LOCATION:Akademia WSB ul. Cieplaka 1C  Dąbrowa Górnicza
TRANSP: OPAQUE
SEQUENCE:0
UID:
DTSTAMP:20260419T201003Z
SUMMARY:Jesień Linuksowa 2022
DESCRIPTION:https://jesien.org Jesień Linuksowa to spotkanie towarzysko-naukowe skupiające miłośników Wolnego Oprogramowania i GNU/Linuksa, organizowane przez Polską Grupę Użytkowników Linuxa (PLUG).......
URL:https://app.evenea.pl/event/jesien-linuksowa-2022/
PRIORITY:1
CLASS:PUBLIC
END:VEVENT
END:VCALENDAR
