BEGIN:VCALENDAR
VERSION:2.0
METHOD:PUBLISH
BEGIN:VEVENT
DTSTART:20230924T123000
DTEND:20230924T123000
LOCATION:Dobre Miejsce - Katolickie Centrum Kultury Dewajtis 3 (wej.B)  Warszawa
TRANSP: OPAQUE
SEQUENCE:0
UID:
DTSTAMP:20260423T175251Z
SUMMARY:Jesień w Eremie! - zwiedzanie #1
DESCRIPTION:!!!Szanowni Państwo, w związku z odbywającym się w niedzielę 24 września Maratonem Warszawskim https://nnmaratonwarszawski.com/trasa/, wjazd na ulicę Dewajtis nie będzie możliwy w......
URL:https://app.evenea.pl/event/jesien1/
PRIORITY:1
CLASS:PUBLIC
END:VEVENT
END:VCALENDAR
