BEGIN:VCALENDAR
VERSION:2.0
METHOD:PUBLISH
BEGIN:VEVENT
DTSTART:20231022T123000
DTEND:20231022T123000
LOCATION:Dobre Miejsce - Katolickie Centrum Kultury Dewajtis 3 (wej.B)  Warszawa
TRANSP: OPAQUE
SEQUENCE:0
UID:
DTSTAMP:20260423T175322Z
SUMMARY:Jesień w Eremie! - zwiedzanie #2
DESCRIPTION:Tej jesieni, ponownie wracamy z ofertą zwiedzania Kompleksu Pokamedulskiego na Warszawskich Bielanach. Po miejscach pełnych interesujących eksponatów i kamedulskich tajemnic, oprowadzi Nas......
URL:https://app.evenea.pl/event/jesien1kopia2/
PRIORITY:1
CLASS:PUBLIC
END:VEVENT
END:VCALENDAR
