BEGIN:VCALENDAR
VERSION:2.0
METHOD:PUBLISH
BEGIN:VEVENT
DTSTART:20230603T210000
DTEND:20230603T210000
LOCATION:Eklektik Art Zamkowa 1  Wrocław
TRANSP: OPAQUE
SEQUENCE:0
UID:
DTSTAMP:20260421T143516Z
SUMMARY:EKLEKTIK ROOM 2023: JIMI TENOR & TENORS OF KALMA
DESCRIPTION:EKLEKTIK ROOM 2023 JIMI TENOR &amp; TENORS OF KALMA3.06 Tenors of Kalma | 4.06 sesja w Eklektik RoomEklektik Art, Zamkowa 1, Wrocław sobota 3.06 otwarcie 20:00 , start koncertu 21:00 Jimi Tenor |......
URL:https://app.evenea.pl/event/jimitenor/
PRIORITY:1
CLASS:PUBLIC
END:VEVENT
END:VCALENDAR
