BEGIN:VCALENDAR
VERSION:2.0
METHOD:PUBLISH
BEGIN:VEVENT
DTSTART:20240923T183000
DTEND:20240923T193000
LOCATION:Centrum Edukacji i Wsparcia os. Górali 24  Kraków
TRANSP: OPAQUE
SEQUENCE:0
UID:
DTSTAMP:20260423T051731Z
SUMMARY:Joga | Yoga | Йога
DESCRIPTION:Grupa wiekowa: dla dorosłych i seniorówJęzyk prowadzenia: polskiPL | Oksana jest pełną pasji nauczycielką jogi, która praktykuje jogę od 2018 roku, po tym jak odkryła, jak joga pomogła......
URL:https://app.evenea.pl/event/joga2309/
PRIORITY:1
CLASS:PUBLIC
END:VEVENT
END:VCALENDAR
