BEGIN:VCALENDAR
VERSION:2.0
METHOD:PUBLISH
BEGIN:VEVENT
DTSTART:20260328T083000
DTEND:20260328T083000
LOCATION:Miejsce Aktywności Lokalnej Szerokie Możliwości ul. Nałęczowska 175  Lublin
TRANSP: OPAQUE
SEQUENCE:0
UID:
DTSTAMP:20260419T173312Z
SUMMARY:Joga
DESCRIPTION:Energetyzująca praktyka, która obudzi ciało i umysł. Świadome sekwencje wzmacniające i uelastyczniające sprawią, że rozpoczniesz dzień z poczuciem mocy i lekkości. Kameralna grupa......
URL:https://app.evenea.pl/event/joga2803/
PRIORITY:1
CLASS:PUBLIC
END:VEVENT
END:VCALENDAR
