BEGIN:VCALENDAR
VERSION:2.0
METHOD:PUBLISH
BEGIN:VEVENT
DTSTART:20240422T183000
DTEND:20240422T193000
LOCATION:Centrum Edukacji i Wsparcia os. Górali 24  Kraków
TRANSP: OPAQUE
SEQUENCE:0
UID:
DTSTAMP:20260423T050424Z
SUMMARY:Joga dla dorosłych | Yoga for adults | Йога для дорослих
DESCRIPTION:Grupa wiekowa: dla dorosłych i seniorówJęzyk prowadzenia: polskiPL | Zapraszamy na jogę dla dorosłych i seniorów w Centrum Edukacji i Wsparcia. Podczas zajęć praktykowane będą dwa rodzaje......
URL:https://app.evenea.pl/event/jogadladoroslych2204/
PRIORITY:1
CLASS:PUBLIC
END:VEVENT
END:VCALENDAR
