BEGIN:VCALENDAR
VERSION:2.0
METHOD:PUBLISH
BEGIN:VEVENT
DTSTART:20260425T150000
DTEND:20260425T173000
LOCATION:Pod fontanntą trzech grajków o ile w smsie nie będzie inaczej Plac Wolnica  Kraków
TRANSP: OPAQUE
SEQUENCE:0
UID:
DTSTAMP:20260423T102455Z
SUMMARY:Najbardziej intrygująca ulica w Krakowie - kreatywne miejscówki przy Józefa, które niedługo znikną
DESCRIPTION:Są ulice, które się ogląda. I są takie, które się odkrywa.Szanowni Państwo jestem Podgórzaninem z wyboru od ponad 20 lat, a Kazimierz i ulica Józefa to przecież przedmieścia Wolnego......
URL:https://app.evenea.pl/event/jozefasuperstar250426/
PRIORITY:1
CLASS:PUBLIC
END:VEVENT
END:VCALENDAR
