BEGIN:VCALENDAR
VERSION:2.0
METHOD:PUBLISH
BEGIN:VEVENT
DTSTART:20231130T160000
DTEND:20231130T160000
LOCATION:FINE SPACE Rynek Główny 17  Kraków
TRANSP: OPAQUE
SEQUENCE:0
UID:
DTSTAMP:20260423T175016Z
SUMMARY:CENTRUM NAUKI JĘZYKA POLSKIEGO - KURS języka polskiego dla dzieci obcojęzycznych | 5-6 lat
DESCRIPTION:ROZUMIEM - MÓWIĘ - CZYTAMBEZPŁATNY kurs nauki języka polskiego jako drugiego dla dzieci z wykorzystaniem nauki czytania metodą sylabową, ćwiczeń koncentracji i pamięci, uwagi słuchowej......
URL:https://app.evenea.pl/event/jp301156/
PRIORITY:1
CLASS:PUBLIC
END:VEVENT
END:VCALENDAR
