BEGIN:VCALENDAR
VERSION:2.0
METHOD:PUBLISH
BEGIN:VEVENT
DTSTART:20240401T170000
DTEND:20240401T170000
LOCATION:Fine Space Rynek Główny 17 (wejście od ul. Brackije 4)  Kraków
TRANSP: OPAQUE
SEQUENCE:0
UID:
DTSTAMP:20260423T175122Z
SUMMARY:CENTRUM NAUKI JĘZYKA POLSKIEGO - KURS języka polskiego dla dzieci obcojęzycznych | 7-9 lat
DESCRIPTION:ROZUMIEM - MÓWIĘ - CZYTAMBEZPŁATNY kurs nauki języka polskiego jako drugiego dla dzieci z wykorzystaniem nauki czytania metodą sylabową, ćwiczeń koncentracji i pamięci, uwagi słuchowej......
URL:https://app.evenea.pl/event/jp79new/
PRIORITY:1
CLASS:PUBLIC
END:VEVENT
END:VCALENDAR
