BEGIN:VCALENDAR
VERSION:2.0
METHOD:PUBLISH
BEGIN:VEVENT
DTSTART:20191130T080000
DTEND:20191130T170000
LOCATION:Lubelskie Centrum Konferencyjne Artura Grottgera 2  Lublin
TRANSP: OPAQUE
SEQUENCE:0
UID:
DTSTAMP:20260419T205557Z
SUMMARY:IT NonStop: J-Santa 2019
DESCRIPTION:Interesujesz się Javą? Świetnie się składa! W sobotę 30 listopada 2019 r. w Lubelskim Centrum Konferencyjnym odbędzie się konferencja IT NonStop: J-Santa. Wystąpienia ekspertów, czas na......
URL:https://app.evenea.pl/event/jsanta2019/
PRIORITY:1
CLASS:PUBLIC
END:VEVENT
END:VCALENDAR
