BEGIN:VCALENDAR
VERSION:2.0
METHOD:PUBLISH
BEGIN:VEVENT
DTSTART:20200218T180000
DTEND:20200218T180000
LOCATION:Pubie Wędrówki ul. Podwale 37/38  Wrocław
TRANSP: OPAQUE
SEQUENCE:0
UID:
DTSTAMP:20260424T091607Z
SUMMARY:J/vacon - Wrocław J/va Meetup #4
DESCRIPTION:Zapraszamy na wydarzenie J/vacon - Wrocław J/va Meetup #4, które odbędzie się już 18 lutego 2020 roku o godzinie 18:00 w "Pubie Wędrówki".Wydarzenie zrzesza pasjonatów: Java, JVM, cloud,......
URL:https://app.evenea.pl/event/jvacon-wroclaw4/
PRIORITY:1
CLASS:PUBLIC
END:VEVENT
END:VCALENDAR
