BEGIN:VCALENDAR
VERSION:2.0
METHOD:PUBLISH
BEGIN:VEVENT
DTSTART:20230929T190000
DTEND:20230929T190000
LOCATION:Gdyński Skład Wina i Alkoholi KaapVino Starowiejska 20 Starowiejska 20  Gdynia
TRANSP: OPAQUE
SEQUENCE:0
UID:
DTSTAMP:20260421T072347Z
SUMMARY:Zakochaj się w Winie v4 Chardonnay: Degustacja stylów z 5 kontynentów
DESCRIPTION:Serdecznie zapraszamy na nasz cykl degustacji "Zakochaj się w Winie" przy ulicy Starowiejskiej 20 w Gdyni. Będzie to wyjątkowa okazja, aby poznać fascynujący świat Chardonnay poprzez podróż......
URL:https://app.evenea.pl/event/kaapv/
PRIORITY:1
CLASS:PUBLIC
END:VEVENT
END:VCALENDAR
