BEGIN:VCALENDAR
VERSION:2.0
METHOD:PUBLISH
BEGIN:VEVENT
DTSTART:20231103T193000
DTEND:20231103T193000
LOCATION:Gdyński Skład wina i alkoholi KaapVino Starowiejska 20 Starowiejska 20  Gdynia
TRANSP: OPAQUE
SEQUENCE:0
UID:
DTSTAMP:20260421T060149Z
SUMMARY:Zakochaj się w Winie v9 Nowości! 6 wypasów z RPA
DESCRIPTION:🇿🇦Tym razem podczas naszej wyjątkowej degustacji, będziemy mieli okazję posmakować aż sześciu win! Wszystkie wina pochodzą z RPA, a konkretnie z regionu Stellenbosch! Każde świetne i......
URL:https://app.evenea.pl/event/kaapvina2/
PRIORITY:1
CLASS:PUBLIC
END:VEVENT
END:VCALENDAR
