BEGIN:VCALENDAR
VERSION:2.0
METHOD:PUBLISH
BEGIN:VEVENT
DTSTART:20240319T173000
DTEND:20240319T190000
LOCATION:Miejsce Otwarte. Centrum Integracji Międzykulturowej. Kraków os. Górali 24  Kraków
TRANSP: OPAQUE
SEQUENCE:0
UID:
DTSTAMP:20260423T050229Z
SUMMARY:Kakaowy Klub dla młodzieży | Cocoa Club for youth | Какао-Клуб для молоді
DESCRIPTION:Grupa wiekowa: 12-18 lat Język prowadzenia: ukraińskiPL/ENG/UACzas stworzyć przeciwwagę w codziennym życiu! Przekształćmy nasze emocje w siłę i równowagę. 🌈Dołącz do naszej grupy,......
URL:https://app.evenea.pl/event/kakaowyklub1903/
PRIORITY:1
CLASS:PUBLIC
END:VEVENT
END:VCALENDAR
