BEGIN:VCALENDAR
VERSION:2.0
METHOD:PUBLISH
BEGIN:VEVENT
DTSTART:20240821T160000
DTEND:20240821T180000
LOCATION:Biblioteka w Czosnowie ul. Gminna 6  05-152 Czosnów
TRANSP: OPAQUE
SEQUENCE:0
UID:
DTSTAMP:20260425T183114Z
SUMMARY:Kampinoskie Spa - warsztaty dla młodzieży 11-18 lat // 21 sierpni 2024 r.
DESCRIPTION:Kampinoskie spa to cykl bezpłatnych warsztatów dla dzieci i młodzieży, które rozpoczną swoją przygodę z tworzeniem naturalnych kosmetyków. Zachęcamy do udziału wszystkich, którzy chcą......
URL:https://app.evenea.pl/event/kampinoskiespa21ii/
PRIORITY:1
CLASS:PUBLIC
END:VEVENT
END:VCALENDAR
