BEGIN:VCALENDAR
VERSION:2.0
METHOD:PUBLISH
BEGIN:VEVENT
DTSTART:20240822T140000
DTEND:20240822T160000
LOCATION:Świetlica Wiejska w Leoncinie ul. Partyzantów 12  05-155 Leoncin
TRANSP: OPAQUE
SEQUENCE:0
UID:
DTSTAMP:20260425T181138Z
SUMMARY:Kampinoskie Spa - warsztaty dla dzieci do 10 lat // 22 sierpnia 2024 r.
DESCRIPTION:Kampinoskie spa to cykl bezpłatnych warsztatów dla dzieci i młodzieży, które rozpoczną swoją przygodę z tworzeniem naturalnych kosmetyków. Zachęcamy do udziału wszystkich, którzy chcą......
URL:https://app.evenea.pl/event/kampinoskiespa22i/
PRIORITY:1
CLASS:PUBLIC
END:VEVENT
END:VCALENDAR
